BEGIN:VCALENDAR
VERSION:2.0
PRODID:icalendar-ruby
CALSCALE:GREGORIAN
METHOD:PUBLISH
BEGIN:VEVENT
DTSTAMP:20260423T090819Z
UID:1-525386@mbcbogalusa.com
DTSTART:20250427T140000Z
DTEND:20250427T145500Z
CLASS:PUBLIC
CREATED:20260422T212957
DESCRIPTION:Sunday School classes are small group Bible studies for people 
 of all ages.\n 
LAST-MODIFIED:20260422T212957
LOCATION:
SUMMARY:Sunday School
URL;VALUE=URI:https://www.mbcbogalusa.com/events/sunday-school--1/2025-04-2
 7
ATTACH;FILENAME=smallgroups-26.jpg;FMTTYPE=image/jpeg:https://dq5pwpg1q8ru0
 .cloudfront.net/2023/09/29/08/58/07/add21129-31a3-47bd-a6a4-7505df663a6c/s
 mallgroups-26.jpg
END:VEVENT
END:VCALENDAR
